BEGIN:VCALENDAR
VERSION:2.0
PRODID:-//New York City Children&#039;s Theater - ECPv5.5.0.1//NONSGML v1.0//EN
CALSCALE:GREGORIAN
METHOD:PUBLISH
X-WR-CALNAME:New York City Children&#039;s Theater
X-ORIGINAL-URL:https://nycchildrenstheater.org
X-WR-CALDESC:Events for New York City Children&#039;s Theater
BEGIN:VTIMEZONE
TZID:America/New_York
BEGIN:DAYLIGHT
TZOFFSETFROM:-0500
TZOFFSETTO:-0400
TZNAME:EDT
DTSTART:20210314T070000
END:DAYLIGHT
BEGIN:STANDARD
TZOFFSETFROM:-0400
TZOFFSETTO:-0500
TZNAME:EST
DTSTART:20211107T060000
END:STANDARD
END:VTIMEZONE
BEGIN:VEVENT
DTSTART;TZID=America/New_York:20210426T110000
DTEND;TZID=America/New_York:20210426T120000
DTSTAMP:20210502T110838
CREATED:20210408T173139Z
LAST-MODIFIED:20210408T173139Z
UID:20926-1619434800-1619438400@nycchildrenstheater.org
SUMMARY:Tune In to Let's Learn NYC | Brian Reads "Daddy's Arms"
DESCRIPTION:Join NYCCT Teaching Artist Brian Feinstein to explore the book “Daddy’s Arms” today on Let’s Learn NYC\, beginning at 11am on Channel 13! \nLet’s Learn NYC is the one-hour\, daily public television series for children in 3-K through second grade\, with 130 new episodes featuring lessons by DOE instructional leaders and coaches with expertise in teaching young learners. Visit the PBS website to learn more or rewatch the episode!  \nBuy the Book\nIf you’d like to purchase the book\, please consider doing so on the author’s website! \nBuy the Book
URL:https://nycchildrenstheater.org/event/lets-learn-nyc-brian/
LOCATION:Online Event\, NY
CATEGORIES:Other Event
ATTACH;FMTTYPE=image/jpeg:https://nycchildrenstheater.org/wp-content/uploads/2021/04/Lets-Learn-NYC_Brian-Feinstein_Daddys-Arms.jpg
END:VEVENT
BEGIN:VEVENT
DTSTART;TZID=America/New_York:20210428T110000
DTEND;TZID=America/New_York:20210428T120000
DTSTAMP:20210502T110838
CREATED:20210408T172350Z
LAST-MODIFIED:20210408T172350Z
UID:20916-1619607600-1619611200@nycchildrenstheater.org
SUMMARY:Tune In to Let's Learn NYC | Kasia Reads "Lucia the Luchadora"
DESCRIPTION:Join NYCCT Teaching Artist Kasia Klimiuk to explore the book “Lucia the Luchadora” today on Let’s Learn NYC\, beginning at 11am on Channel 13! \nLet’s Learn NYC is the one-hour\, daily public television series for children in 3-K through second grade\, with 130 new episodes featuring lessons by DOE instructional leaders and coaches with expertise in teaching young learners. Visit the PBS website to learn more or rewatch the episode!  \nBuy the Book\nIf you’d like to purchase the book\, please consider doing so on Bookshop.org to support local bookstores and NYCCT! \nBuy the Book
URL:https://nycchildrenstheater.org/event/lets-learn-nyc-kasia/
LOCATION:Online Event\, NY
CATEGORIES:Other Event
ATTACH;FMTTYPE=image/jpeg:https://nycchildrenstheater.org/wp-content/uploads/2021/04/Lets-Learn-NYC_Kasia-Klimiuk_Lucia-the-Luchadora.jpg
END:VEVENT
BEGIN:VEVENT
DTSTART;TZID=America/New_York:20210430T110000
DTEND;TZID=America/New_York:20210430T120000
DTSTAMP:20210502T110838
CREATED:20210408T172514Z
LAST-MODIFIED:20210408T172514Z
UID:20918-1619780400-1619784000@nycchildrenstheater.org
SUMMARY:Tune In to Let's Learn NYC | Lynda Reads "ABC NYC"
DESCRIPTION:Join NYCCT Teaching Artist Lynda DeFuria to explore the book “ABC NYC” today on Let’s Learn NYC\, beginning at 11am on Channel 13! \nLet’s Learn NYC is the one-hour\, daily public television series for children in 3-K through second grade\, with 130 new episodes featuring lessons by DOE instructional leaders and coaches with expertise in teaching young learners. Visit the PBS website to learn more or rewatch the episode!  \nBuy the Book\nIf you’d like to purchase the book\, please consider doing so on Bookshop.org to support local bookstores and NYCCT! \nBuy the Book
URL:https://nycchildrenstheater.org/event/lets-learn-nyc-lynda/
LOCATION:Online Event\, NY
CATEGORIES:Other Event
ATTACH;FMTTYPE=image/jpeg:https://nycchildrenstheater.org/wp-content/uploads/2021/04/Lets-Learn-NYC_Lynda-DeFuria_ABC-NYC.jpg
END:VEVENT
BEGIN:VEVENT
DTSTART;VALUE=DATE:20210503
DTEND;VALUE=DATE:20210601
DTSTAMP:20210502T110838
CREATED:20210111T200622Z
LAST-MODIFIED:20210413T172335Z
UID:19430-1620000000-1622505599@nycchildrenstheater.org
SUMMARY:The Traveler
DESCRIPTION:
URL:https://nycchildrenstheater.org/event/the-traveler/
LOCATION:Online Event\, NY
CATEGORIES:At the Theater,Hits at Home
ATTACH;FMTTYPE=image/png:https://nycchildrenstheater.org/wp-content/uploads/2020/10/Traveler-cover-art.png
END:VEVENT
BEGIN:VEVENT
DTSTART;TZID=America/New_York:20210504T110000
DTEND;TZID=America/New_York:20210504T120000
DTSTAMP:20210502T110838
CREATED:20210408T172650Z
LAST-MODIFIED:20210408T172650Z
UID:20920-1620126000-1620129600@nycchildrenstheater.org
SUMMARY:Tune In to Let's Learn NYC | Meghan Reads "Skip Through the Seasons"
DESCRIPTION:Join NYCCT Teaching Artist Meghan Grover to explore the book “Skip Through the Seasons” today on Let’s Learn NYC\, beginning at 11am on Channel 13! \nLet’s Learn NYC is the one-hour\, daily public television series for children in 3-K through second grade\, with 130 new episodes featuring lessons by DOE instructional leaders and coaches with expertise in teaching young learners. Visit the PBS website to learn more or rewatch the episode!  \nBuy the Book\nIf you’d like to purchase the book\, please consider doing so on Bookshop.org to support local bookstores and NYCCT! \nBuy the Book
URL:https://nycchildrenstheater.org/event/lets-learn-nyc-meghan/
LOCATION:Online Event\, NY
CATEGORIES:Other Event
ATTACH;FMTTYPE=image/jpeg:https://nycchildrenstheater.org/wp-content/uploads/2021/04/Lets-Learn-NYC_Meghan-Grover_Skip-Through-the-Seasons.jpg
END:VEVENT
BEGIN:VEVENT
DTSTART;TZID=America/New_York:20210507T110000
DTEND;TZID=America/New_York:20210507T120000
DTSTAMP:20210502T110838
CREATED:20210408T172813Z
LAST-MODIFIED:20210408T172813Z
UID:20922-1620385200-1620388800@nycchildrenstheater.org
SUMMARY:Tune In to Let's Learn NYC | Brielle Reads "Think Big"
DESCRIPTION:Join NYCCT Teaching Artist Brielle Silvestri to explore the book “Think Big” today on Let’s Learn NYC\, beginning at 11am on Channel 13! \nLet’s Learn NYC is the one-hour\, daily public television series for children in 3-K through second grade\, with 130 new episodes featuring lessons by DOE instructional leaders and coaches with expertise in teaching young learners. Visit the PBS website to learn more or rewatch the episode!  \nBuy the Book\nIf you’d like to purchase the book\, please consider doing so on Bookshop.org to support local bookstores and NYCCT! \nBuy the Book
URL:https://nycchildrenstheater.org/event/lets-learn-nyc-brielle/
LOCATION:Online Event\, NY
CATEGORIES:Other Event
ATTACH;FMTTYPE=image/jpeg:https://nycchildrenstheater.org/wp-content/uploads/2021/04/Lets-Learn-NYC_Brielle-Silvestri_Think-Big.jpg
END:VEVENT
BEGIN:VEVENT
DTSTART;TZID=America/New_York:20210510T110000
DTEND;TZID=America/New_York:20210510T120000
DTSTAMP:20210502T110838
CREATED:20210408T172943Z
LAST-MODIFIED:20210408T172943Z
UID:20924-1620644400-1620648000@nycchildrenstheater.org
SUMMARY:Tune In to Let's Learn NYC | Kit Reads "Bag in the Wind"
DESCRIPTION:Join NYCCT Teaching Artist Kit Grant Goldstein to explore the book “Bag in the Wind” today on Let’s Learn NYC\, beginning at 11am on Channel 13! \nLet’s Learn NYC is the one-hour\, daily public television series for children in 3-K through second grade\, with 130 new episodes featuring lessons by DOE instructional leaders and coaches with expertise in teaching young learners. Visit the PBS website to learn more or rewatch the episode!  \nBuy the Book\nIf you’d like to purchase the book\, please consider doing so on Bookshop.org to support local bookstores and NYCCT! \nBuy the Book
URL:https://nycchildrenstheater.org/event/lets-learn-nyc-kit/
LOCATION:Online Event\, NY
CATEGORIES:Other Event
ATTACH;FMTTYPE=image/jpeg:https://nycchildrenstheater.org/wp-content/uploads/2021/04/Lets-Learn-NYC_Kit-Goldstein-Grant_Bag-in-the-Wind.jpg
END:VEVENT
END:VCALENDAR